BEGIN:VCALENDAR
VERSION:2.0
PRODID:-//Vespa Club - ECPv5.13.0//NONSGML v1.0//EN
CALSCALE:GREGORIAN
METHOD:PUBLISH
X-WR-CALNAME:Vespa Club
X-ORIGINAL-URL:https://scooteria-leibnitz.at
X-WR-CALDESC:Veranstaltungen für Vespa Club
BEGIN:VTIMEZONE
TZID:Europe/Vienna
BEGIN:DAYLIGHT
TZOFFSETFROM:+0100
TZOFFSETTO:+0200
TZNAME:CEST
DTSTART:20260329T010000
END:DAYLIGHT
BEGIN:STANDARD
TZOFFSETFROM:+0200
TZOFFSETTO:+0100
TZNAME:CET
DTSTART:20261025T010000
END:STANDARD
END:VTIMEZONE
BEGIN:VEVENT
DTSTART;TZID=Europe/Vienna:20260502T103000
DTEND;TZID=Europe/Vienna:20260502T170000
DTSTAMP:20260420T112748
CREATED:20260120T213747Z
LAST-MODIFIED:20260120T214033Z
UID:14125-1777717800-1777741200@scooteria-leibnitz.at
SUMMARY:Saisonopening 2026
DESCRIPTION:Saison Openings Ausfahrt 2026 der Scooteria Leibnitz\nWann : Samstag 2.Mai.2026\nTreffpunkt: 10 Uhr 30 bei der Agip Ts in Gralla\nAbfahrt: pünktlich und vollgetankt um 11Uhr.\nStreckelänge: ca 70km \nTour Guide: Pinatschi\nZiel : wird noch bekannt gegeben.\nNatürlich sind wie immer ALLE Vespafreunde herzlich WILLKOMMEN.\nL.G.Vespaclub Scooteria Leibnitz\nWir freuen uns schon auf einen lässigen  Tag .
URL:https://scooteria-leibnitz.at/event/saisonopening-2026/
ATTACH;FMTTYPE=image/jpeg:https://scooteria-leibnitz.at/wp-content/uploads/2026/01/608954710_1350924367079848_205972073734514333_n.jpg
END:VEVENT
BEGIN:VEVENT
DTSTART;VALUE=DATE:20260703
DTEND;VALUE=DATE:20260706
DTSTAMP:20260420T112748
CREATED:20250923T104910Z
LAST-MODIFIED:20260202T221933Z
UID:14015-1783062000-1783234799@scooteria-leibnitz.at
SUMMARY:Steira Vespa 2026
DESCRIPTION:Der Termin für die Steira Vespa ist das erste Juli Wochenende! \n03. – 04. Juli 2026\n 
URL:https://scooteria-leibnitz.at/event/steira-vespa-2026/
END:VEVENT
END:VCALENDAR