BEGIN:VCALENDAR
VERSION:2.0
PRODID:-//Vespa Club - ECPv5.13.0//NONSGML v1.0//EN
CALSCALE:GREGORIAN
METHOD:PUBLISH
X-WR-CALNAME:Vespa Club
X-ORIGINAL-URL:https://scooteria-leibnitz.at
X-WR-CALDESC:Veranstaltungen für Vespa Club
BEGIN:VTIMEZONE
TZID:Europe/Vienna
BEGIN:DAYLIGHT
TZOFFSETFROM:+0100
TZOFFSETTO:+0200
TZNAME:CEST
DTSTART:20160327T010000
END:DAYLIGHT
BEGIN:STANDARD
TZOFFSETFROM:+0200
TZOFFSETTO:+0100
TZNAME:CET
DTSTART:20161030T010000
END:STANDARD
END:VTIMEZONE
BEGIN:VEVENT
DTSTART;TZID=Europe/Vienna:20161217T110000
DTEND;TZID=Europe/Vienna:20161217T230000
DTSTAMP:20260419T222258
CREATED:20161024T190728Z
LAST-MODIFIED:20161024T194830Z
UID:9586-1481972400-1482015600@scooteria-leibnitz.at
SUMMARY:WeihnachtsGLUEHfeier der Scooteria Leibnitz
DESCRIPTION:Liebe VESPA Freunde\, wir laden EUCH zu unserer 3. WeihnachtsGLÜHfeier\nam Samstag dem 17. Dezember 2016 ab 10 Uhr recht herzlich ein.\nWO: Heuer erstmals in der Esv Halle in Wagna .\nBauhofstrasse 22 \, 8435 Wagna direkt beim Bauhof und Feuerwehr .\nFür das leibliche Wohl ist gesorgt \nMusik aus der DOSE….\nDie Feier findet bei JEDER Witterung statt da wir auch eine Halle zur Verfügung haben.\nAlle Vespafreunde sind wie immer recht herzlich willkommen ! \nVespaclub Scooteria Leibnitz
URL:https://scooteria-leibnitz.at/event/weihnachtsgluehfeier-der-scooteria-leibnitz/
LOCATION:ESV Halle Wagna\, Bauhofstraße 22\, Wagna\, Steiermark\, 8430\, Österreich
CATEGORIES:Vespatreffen
ATTACH;FMTTYPE=image/jpeg:https://scooteria-leibnitz.at/wp-content/uploads/2016/10/weihnachtsglühfeier-2016.jpg
END:VEVENT
END:VCALENDAR