BEGIN:VCALENDAR
VERSION:2.0
PRODID:-//Vespa Club - ECPv5.13.0//NONSGML v1.0//EN
CALSCALE:GREGORIAN
METHOD:PUBLISH
X-WR-CALNAME:Vespa Club
X-ORIGINAL-URL:https://scooteria-leibnitz.at
X-WR-CALDESC:Veranstaltungen für Vespa Club
BEGIN:VTIMEZONE
TZID:Europe/Vienna
BEGIN:DAYLIGHT
TZOFFSETFROM:+0100
TZOFFSETTO:+0200
TZNAME:CEST
DTSTART:20160327T010000
END:DAYLIGHT
BEGIN:STANDARD
TZOFFSETFROM:+0200
TZOFFSETTO:+0100
TZNAME:CET
DTSTART:20161030T010000
END:STANDARD
END:VTIMEZONE
BEGIN:VEVENT
DTSTART;TZID=Europe/Vienna:20160820T100000
DTEND;TZID=Europe/Vienna:20160820T200000
DTSTAMP:20260420T000611
CREATED:20160303T104814Z
LAST-MODIFIED:20160312T172711Z
UID:7675-1471687200-1471723200@scooteria-leibnitz.at
SUMMARY:20. August 2016 – Vespatreffen der Vesparunde Feldbach
DESCRIPTION:Ausfahrt der Scooteria Leibnitz zum 3. Woazockern trifft Vespa Runde Feldbach. \nTreffpunkt: Samstag 20.August 2016 bei Franz Stelzls Scootershop. \nAbfahrt: pünktlich und vollgetankt um 11 Uhr.\nNatürlich können sich auch andere Vespistis bei uns anschließen \n 
URL:https://scooteria-leibnitz.at/event/vespatreffen-der-vesparunde-feldbach/
LOCATION:Stelzl Motorrad- & Scooter\, Hauptstraße 44\, Leitring\, 8430\, Österreich
CATEGORIES:Vespatreffen
ATTACH;FMTTYPE=image/jpeg:https://scooteria-leibnitz.at/wp-content/uploads/2016/03/Feldbacher-Treffen.jpg
ORGANIZER;CN="Scooteria%20Leibnitz":MAILTO:kickstart@scooteria-leibnitz.at
END:VEVENT
END:VCALENDAR