BEGIN:VCALENDAR
VERSION:2.0
PRODID:-//Vespa Club - ECPv5.13.0//NONSGML v1.0//EN
CALSCALE:GREGORIAN
METHOD:PUBLISH
X-WR-CALNAME:Vespa Club
X-ORIGINAL-URL:https://scooteria-leibnitz.at
X-WR-CALDESC:Veranstaltungen für Vespa Club
BEGIN:VTIMEZONE
TZID:Europe/Vienna
BEGIN:DAYLIGHT
TZOFFSETFROM:+0100
TZOFFSETTO:+0200
TZNAME:CEST
DTSTART:20160327T010000
END:DAYLIGHT
BEGIN:STANDARD
TZOFFSETFROM:+0200
TZOFFSETTO:+0100
TZNAME:CET
DTSTART:20161030T010000
END:STANDARD
END:VTIMEZONE
BEGIN:VEVENT
DTSTART;TZID=Europe/Vienna:20160423T100000
DTEND;TZID=Europe/Vienna:20160423T200000
DTSTAMP:20260420T173036
CREATED:20160219T073109Z
LAST-MODIFIED:20160508T173736Z
UID:7282-1461405600-1461441600@scooteria-leibnitz.at
SUMMARY:23. April 2016 – Vespa Warm-Up der Scooteria Leibnitz
DESCRIPTION:Liebe Vespafreunde wir laden Euch am 23. April 2016 zu unserem Cluboffenen Vespa Warm-Up bei Franz Stelzls Scootershop ein. \nProgramm:\n\nAb 10 Uhr geht’s los ( Kaffee / Kuchen )\nUm 12 Uhr starten wir eine kleine aber feine Ausfahrt\nanschließend wird unser Grillmeister Pepe kulinarisch für uns aufgrillen\n\nDanach lassen wir den Tag mit Dosen Sound und fachsimpeln gemütlich ausklingen.\nDer Vespaclub Scooteria Leibnitz freut sich auf Euer kommen!
URL:https://scooteria-leibnitz.at/event/vespa-warm-up/
LOCATION:Stelzl Motorrad- & Scooter\, Hauptstraße 44\, Leitring\, 8430\, Österreich
CATEGORIES:Warm-Up
ATTACH;FMTTYPE=image/jpeg:https://scooteria-leibnitz.at/wp-content/uploads/2016/02/12715511_537533449761595_1532455978270666465_n.jpg
ORGANIZER;CN="Scooteria%20Leibnitz":MAILTO:kickstart@scooteria-leibnitz.at
END:VEVENT
END:VCALENDAR