BEGIN:VCALENDAR
VERSION:2.0
PRODID:-//Vespa Club - ECPv5.13.0//NONSGML v1.0//EN
CALSCALE:GREGORIAN
METHOD:PUBLISH
X-WR-CALNAME:Vespa Club
X-ORIGINAL-URL:https://scooteria-leibnitz.at
X-WR-CALDESC:Veranstaltungen für Vespa Club
BEGIN:VTIMEZONE
TZID:Europe/Vienna
BEGIN:DAYLIGHT
TZOFFSETFROM:+0100
TZOFFSETTO:+0200
TZNAME:CEST
DTSTART:20160327T010000
END:DAYLIGHT
BEGIN:STANDARD
TZOFFSETFROM:+0200
TZOFFSETTO:+0100
TZNAME:CET
DTSTART:20161030T010000
END:STANDARD
END:VTIMEZONE
BEGIN:VEVENT
DTSTART;TZID=Europe/Vienna:20160517T080000
DTEND;TZID=Europe/Vienna:20160521T170000
DTSTAMP:20260420T124727
CREATED:20160327T133008Z
LAST-MODIFIED:20160327T191843Z
UID:8370-1463472000-1463850000@scooteria-leibnitz.at
SUMMARY:Vespa Austellung der Scooteria Leibnitz in der Shooping City Seiersberg
DESCRIPTION:Eine Woche lang haben wir wieder unsere Austellung in der SCS! Wir freuen uns wieder am “ersten Platz” der Shopping City austellen zu dürfen. Wer Lust und Zeit hat ist herzlich eingeladen vorbeizuschauen. Unser Hauptpreis der Steira Vespa 2016 wird dort ebenfalls bereits ausgestellt sein! \nAufgrund der großen Teilnehmerzahl am “kürzesten Vespa Corso der Welt” am Gelände der Shoppingcity und das damit verbundene Sicherheitsrisiko ist die Ausfahrt heuer leider nicht mehr am Programm. Dafür haben wir natürlich Verständnis. Es würde uns trotzdem freuen\, wenn wir uns in der SCS auf ein Plauscherl treffen würden. \nEin großes Danke für die tolle Zusammenarbeit mit den Leuten von der Shopping City! \nVideo von Ragazzi di Stiria \n 
URL:https://scooteria-leibnitz.at/event/vespa-austellung-der-scooteria-leibnitz-in-der-shooping-city-seiersberg/
LOCATION:Seiersberg\, Seiersberg 1\, Seiersberg\, Steiermark\, 8055\, Österreich
CATEGORIES:Seiersberg
ATTACH;FMTTYPE=image/jpeg:https://scooteria-leibnitz.at/wp-content/uploads/2016/03/Seiersberg6.jpg
ORGANIZER;CN="Scooteria%20Leibnitz":MAILTO:kickstart@scooteria-leibnitz.at
END:VEVENT
END:VCALENDAR