BEGIN:VCALENDAR
VERSION:2.0
PRODID:-//Vespa Club - ECPv5.13.0//NONSGML v1.0//EN
CALSCALE:GREGORIAN
METHOD:PUBLISH
X-WR-CALNAME:Vespa Club
X-ORIGINAL-URL:https://scooteria-leibnitz.at
X-WR-CALDESC:Veranstaltungen für Vespa Club
BEGIN:VTIMEZONE
TZID:Europe/Vienna
BEGIN:DAYLIGHT
TZOFFSETFROM:+0100
TZOFFSETTO:+0200
TZNAME:CEST
DTSTART:20180325T010000
END:DAYLIGHT
BEGIN:STANDARD
TZOFFSETFROM:+0200
TZOFFSETTO:+0100
TZNAME:CET
DTSTART:20181028T010000
END:STANDARD
END:VTIMEZONE
BEGIN:VEVENT
DTSTART;TZID=Europe/Vienna:20180721T103000
DTEND;TZID=Europe/Vienna:20180721T180000
DTSTAMP:20260420T150429
CREATED:20180325T161447Z
LAST-MODIFIED:20180326T103331Z
UID:10797-1532169000-1532196000@scooteria-leibnitz.at
SUMMARY:Vespisti against Cancer 2018
DESCRIPTION:Ausfahrt der Scooteria Leibnitz zu Vespisti against Cancer 2018 nach Heiligenkreuz am Waasen \nWann: Samstag\, 21. Juli 2018 \nTreffpunkt ab 10:30 Uhr bei der ENI-Tankstelle in Gralla \nAbfahrt pünktlich und vollgetankt um 11:00 Uhr \nWie immer können sich auch andere Vespafreunde bei uns anschließen..
URL:https://scooteria-leibnitz.at/event/vespa-against-cancer-2018/
CATEGORIES:Vespatreffen
ATTACH;FMTTYPE=image/jpeg:https://scooteria-leibnitz.at/wp-content/uploads/2018/03/against-cancer-2018.jpg
END:VEVENT
END:VCALENDAR