BEGIN:VCALENDAR
VERSION:2.0
PRODID:-//Vespa Club - ECPv5.13.0//NONSGML v1.0//EN
CALSCALE:GREGORIAN
METHOD:PUBLISH
X-WR-CALNAME:Vespa Club
X-ORIGINAL-URL:https://scooteria-leibnitz.at
X-WR-CALDESC:Veranstaltungen für Vespa Club
BEGIN:VTIMEZONE
TZID:Europe/Vienna
BEGIN:DAYLIGHT
TZOFFSETFROM:+0100
TZOFFSETTO:+0200
TZNAME:CEST
DTSTART:20170326T010000
END:DAYLIGHT
BEGIN:STANDARD
TZOFFSETFROM:+0200
TZOFFSETTO:+0100
TZNAME:CET
DTSTART:20171029T010000
END:STANDARD
END:VTIMEZONE
BEGIN:VEVENT
DTSTART;TZID=Europe/Vienna:20170707T120000
DTEND;TZID=Europe/Vienna:20170709T080000
DTSTAMP:20260419T183724
CREATED:20161024T200341Z
LAST-MODIFIED:20170606T110717Z
UID:9598-1499428800-1499587200@scooteria-leibnitz.at
SUMMARY:Steira Vespa 2017
DESCRIPTION:DIE STEIRA VESPA 2017 VON 7. bis 8. JULI MIT DEN SCHÖNSTEN PANORAMASTRASSEN UND VESPATOUREN\nWIR SAGEN DANKE! 917 Vespas und mehr als das doppelte an Besucher kamen 2016 zur Steira Vespa. \nAuch 2017 dürfen wir Euch wieder zum Vespatreffen mit völlig neuen Perspektiven\, spannenden und neuen Highlights einladen! Auf alle Fälle erwarten Euch wunderschöne Ausfahrten und ein Vespa-Erlebnis in einer der schönsten Gegenden Europas. \nWir freuen uns auf Euch! Und bieten mit dem größten Vespatreffen der Steiermark ein Vespa-Wochenende mit Freunden\, Kulinarik\, speziellen Vespa-Touren abgerundet mit einem Oldschool-Gelände\, Musik\, Spaß und Spiel bei freiem Eintritt und gratis Camping!
URL:https://scooteria-leibnitz.at/event/steiravespa-2017/
LOCATION:Route 69\, Eichberg-Trautenburg 69\, Leutschach\, 8463\, Österreich
CATEGORIES:Steiravespa
ATTACH;FMTTYPE=image/jpeg:https://scooteria-leibnitz.at/wp-content/uploads/2015/04/steira-vespa-2016-46.jpg
ORGANIZER;CN="Scooteria%20Leibnitz":MAILTO:kickstart@scooteria-leibnitz.at
END:VEVENT
END:VCALENDAR