BEGIN:VCALENDAR
VERSION:2.0
PRODID:-//Vespa Club - ECPv5.13.0//NONSGML v1.0//EN
CALSCALE:GREGORIAN
METHOD:PUBLISH
X-WR-CALNAME:Vespa Club
X-ORIGINAL-URL:https://scooteria-leibnitz.at
X-WR-CALDESC:Veranstaltungen für Vespa Club
BEGIN:VTIMEZONE
TZID:Europe/Vienna
BEGIN:DAYLIGHT
TZOFFSETFROM:+0100
TZOFFSETTO:+0200
TZNAME:CEST
DTSTART:20230326T010000
END:DAYLIGHT
BEGIN:STANDARD
TZOFFSETFROM:+0200
TZOFFSETTO:+0100
TZNAME:CET
DTSTART:20231029T010000
END:STANDARD
END:VTIMEZONE
BEGIN:VEVENT
DTSTART;TZID=Europe/Vienna:20231010T080000
DTEND;TZID=Europe/Vienna:20231010T170000
DTSTAMP:20260420T050023
CREATED:20231010T171303Z
LAST-MODIFIED:20231010T171330Z
UID:13362-1696924800-1696957200@scooteria-leibnitz.at
SUMMARY:Steira Vespa 2023
DESCRIPTION:5 – 6 Juli 2023 \nSave the date \n  \nInfos folgen!!
URL:https://scooteria-leibnitz.at/event/steira-vespa-2023/
CATEGORIES:Steiravespa
ATTACH;FMTTYPE=image/jpeg:https://scooteria-leibnitz.at/wp-content/uploads/2023/10/376731716_749943447177946_5082586654454046834_n.jpg
END:VEVENT
END:VCALENDAR