BEGIN:VCALENDAR
VERSION:2.0
PRODID:-//Vespa Club - ECPv5.13.0//NONSGML v1.0//EN
CALSCALE:GREGORIAN
METHOD:PUBLISH
X-WR-CALNAME:Vespa Club
X-ORIGINAL-URL:https://scooteria-leibnitz.at
X-WR-CALDESC:Veranstaltungen für Vespa Club
BEGIN:VTIMEZONE
TZID:Europe/Vienna
BEGIN:DAYLIGHT
TZOFFSETFROM:+0100
TZOFFSETTO:+0200
TZNAME:CEST
DTSTART:20230326T010000
END:DAYLIGHT
BEGIN:STANDARD
TZOFFSETFROM:+0200
TZOFFSETTO:+0100
TZNAME:CET
DTSTART:20231029T010000
END:STANDARD
END:VTIMEZONE
BEGIN:VEVENT
DTSTART;TZID=Europe/Vienna:20230708T080000
DTEND;TZID=Europe/Vienna:20230708T233000
DTSTAMP:20260419T233641
CREATED:20230209T135422Z
LAST-MODIFIED:20230423T074346Z
UID:13193-1688803200-1688859000@scooteria-leibnitz.at
SUMMARY:Scooteria Leibnitz - 10 Jahre
DESCRIPTION: Liebe Vespafreunde \nWir feiern heuer Jubiläum\n☆☆☆☆☆☆ Jahre☆☆☆☆☆☆\nVESPACLUB SCOOTERIA LEIBNITZ\nWann: Samstag 8.JULI 2023\nWo: Schloss Laubegg\n8413 Laubegg 1\nca 9 km von Leibnitz entfernt.\n \n☆Programm☆\nAb 10 Uhr\nBegrüßung der Gäste\nAb 10 Uhr\nGastro\nMerchandise:\nSonderauflage 10 Jahre VC Scooteria Leibnitz Aufnäher & Aufkleber\nLimitierte Auflage .\nAussteller Mike’s Garage\n( Vespa Merchandise)\n13 Uhr\nSÜDOSTSTEIERMARK AUSFAHRT\nca 70 km\nTour Guide: Pepe\nab 15 Uhr 30\nFungames : Slowrace \nIm Anschluss\nSiegerehrung & Urkundenausgabe\nAb 17 Uhr PARTYTIME \nEINTRITT FREI wie IMMER\nNATÜRLICH SIND ALLE VESPAFREUNDE HERZLICH WILLKOMMEN.\nDer Veranstalter übernimmt keine Haftung.\nJeder Teilnehmer nimmt auf eigene Gefahr bei der Ausfahrt teil.\nBei der Ausfahrt gilt die StVO .
URL:https://scooteria-leibnitz.at/event/scooteria-leibnitz-10-jahre/
CATEGORIES:Vespatreffen
ATTACH;FMTTYPE=image/jpeg:https://scooteria-leibnitz.at/wp-content/uploads/2023/02/WhatsApp-Image-2023-04-23-at-09.40.14.jpeg
ORGANIZER;CN="Scooteria%20Leibnitz":MAILTO:kickstart@scooteria-leibnitz.at
END:VEVENT
END:VCALENDAR