BEGIN:VCALENDAR
VERSION:2.0
PRODID:-//Vespa Club - ECPv5.13.0//NONSGML v1.0//EN
CALSCALE:GREGORIAN
METHOD:PUBLISH
X-WR-CALNAME:Vespa Club
X-ORIGINAL-URL:https://scooteria-leibnitz.at
X-WR-CALDESC:Veranstaltungen für Vespa Club
BEGIN:VTIMEZONE
TZID:Europe/Vienna
BEGIN:DAYLIGHT
TZOFFSETFROM:+0100
TZOFFSETTO:+0200
TZNAME:CEST
DTSTART:20220327T010000
END:DAYLIGHT
BEGIN:STANDARD
TZOFFSETFROM:+0200
TZOFFSETTO:+0100
TZNAME:CET
DTSTART:20221030T010000
END:STANDARD
END:VTIMEZONE
BEGIN:VEVENT
DTSTART;VALUE=DATE:20220514
DTEND;VALUE=DATE:20220516
DTSTAMP:20260419T183924
CREATED:20220122T162947Z
LAST-MODIFIED:20220505T070305Z
UID:12865-1652511600-1652597999@scooteria-leibnitz.at
SUMMARY:Sasion Openings Ausfahrt 2022
DESCRIPTION:Achtung !\nDie Veranstaltung wurde auf Samstag den 14.Mai 2022 verschoben !! \nAm 14.5. findet wieder unsere traditionelle Saison Openings Ausfahrt statt. \nTreffpunkt: 11Uhr Eni Ts Gralla \nAbfahrt: pünktlich und vollgetankt um 11 Uhr 30 \nStrecke: ca 70 km \nStreckenführung:\nKurvenreich 🔵🔴⚫️ \nStrecke : Südoststeiermark \nZiel und Abschluss der Ausfahrt wird bei Pepe\, Waltraud\, Mandy\, Birgit in Seibuttendorf 16 sein\, wo wir kulinarisch verwöhnt werden. \nUm 14 Uhr findet vor Ort die VESPAsegnung mit Pfarrer W.Toberer statt. \nAusserdem werden wir die bestellten Club Merchandise Artikel an unsere Clubmitglieder vor Ort ausgeben. \nWir freuen uns schon auf einen lässigen Vespa Tag mit Euch gemeinsam. \nNatürlich sind alle Vespafreunde herzlich willkommen.
URL:https://scooteria-leibnitz.at/event/sasion-openings-ausfahrt-2022/
CATEGORIES:Saison Opening
ATTACH;FMTTYPE=image/jpeg:https://scooteria-leibnitz.at/wp-content/uploads/2022/05/56212610-7FCB-4D70-B30A-C6D5AEF9323C.jpeg
END:VEVENT
END:VCALENDAR