BEGIN:VCALENDAR
VERSION:2.0
PRODID:-//Vespa Club - ECPv5.13.0//NONSGML v1.0//EN
CALSCALE:GREGORIAN
METHOD:PUBLISH
X-WR-CALNAME:Vespa Club
X-ORIGINAL-URL:https://scooteria-leibnitz.at
X-WR-CALDESC:Veranstaltungen für Vespa Club
BEGIN:VTIMEZONE
TZID:Europe/Vienna
BEGIN:DAYLIGHT
TZOFFSETFROM:+0100
TZOFFSETTO:+0200
TZNAME:CEST
DTSTART:20230326T010000
END:DAYLIGHT
BEGIN:STANDARD
TZOFFSETFROM:+0200
TZOFFSETTO:+0100
TZNAME:CET
DTSTART:20231029T010000
END:STANDARD
END:VTIMEZONE
BEGIN:VEVENT
DTSTART;TZID=Europe/Vienna:20230506T110000
DTEND;TZID=Europe/Vienna:20230506T170000
DTSTAMP:20260419T213935
CREATED:20230208T222037Z
LAST-MODIFIED:20230213T122235Z
UID:13190-1683370800-1683392400@scooteria-leibnitz.at
SUMMARY:Saisonopening Ausfahrt 2023
DESCRIPTION:Treffpunkt 11:00 – TS Eni in Gralla \nAbfahrt 11:30 \nInfos folgen
URL:https://scooteria-leibnitz.at/event/saisonopening-ausfahrt-2023/
LOCATION:Eni Tankstelle\, Gewerbepark Nord 11\,\, Gralla\, Steiermark\, 8431\, Österreich
CATEGORIES:Saison Opening
ATTACH;FMTTYPE=image/jpeg:https://scooteria-leibnitz.at/wp-content/uploads/2023/01/321655573_850861352698435_6818462094168006453_n.jpg
ORGANIZER;CN="Scooteria%20Leibnitz":MAILTO:kickstart@scooteria-leibnitz.at
END:VEVENT
END:VCALENDAR