BEGIN:VCALENDAR
VERSION:2.0
PRODID:-//Vespa Club - ECPv5.13.0//NONSGML v1.0//EN
CALSCALE:GREGORIAN
METHOD:PUBLISH
X-WR-CALNAME:Vespa Club
X-ORIGINAL-URL:https://scooteria-leibnitz.at
X-WR-CALDESC:Veranstaltungen für Vespa Club
BEGIN:VTIMEZONE
TZID:Europe/Vienna
BEGIN:DAYLIGHT
TZOFFSETFROM:+0100
TZOFFSETTO:+0200
TZNAME:CEST
DTSTART:20240331T010000
END:DAYLIGHT
BEGIN:STANDARD
TZOFFSETFROM:+0200
TZOFFSETTO:+0100
TZNAME:CET
DTSTART:20241027T010000
END:STANDARD
END:VTIMEZONE
BEGIN:VEVENT
DTSTART;TZID=Europe/Vienna:20240921T100000
DTEND;TZID=Europe/Vienna:20240921T170000
DTSTAMP:20260420T161918
CREATED:20240221T122354Z
LAST-MODIFIED:20240221T122354Z
UID:13540-1726912800-1726938000@scooteria-leibnitz.at
SUMMARY:Saisonabschluss Ausfahrt
DESCRIPTION:Termin Information !!
URL:https://scooteria-leibnitz.at/event/saisonabschluss-ausfahrt/
CATEGORIES:Saison Abschluss
END:VEVENT
END:VCALENDAR