BEGIN:VCALENDAR
VERSION:2.0
PRODID:-//Vespa Club - ECPv5.13.0//NONSGML v1.0//EN
CALSCALE:GREGORIAN
METHOD:PUBLISH
X-WR-CALNAME:Vespa Club
X-ORIGINAL-URL:https://scooteria-leibnitz.at
X-WR-CALDESC:Veranstaltungen für Vespa Club
BEGIN:VTIMEZONE
TZID:Europe/Vienna
BEGIN:DAYLIGHT
TZOFFSETFROM:+0100
TZOFFSETTO:+0200
TZNAME:CEST
DTSTART:20240331T010000
END:DAYLIGHT
BEGIN:STANDARD
TZOFFSETFROM:+0200
TZOFFSETTO:+0100
TZNAME:CET
DTSTART:20241027T010000
END:STANDARD
END:VTIMEZONE
BEGIN:VEVENT
DTSTART;TZID=Europe/Vienna:20240504T103000
DTEND;TZID=Europe/Vienna:20240504T170000
DTSTAMP:20260420T100336
CREATED:20240211T165224Z
LAST-MODIFIED:20240211T165339Z
UID:13477-1714818600-1714842000@scooteria-leibnitz.at
SUMMARY:Saison Openingsausfahrt
DESCRIPTION:https://www.facebook.com/events/s/saison-openings-ausfahrt-2024-/304979812409343/?mibextid=9l3rBW
URL:https://scooteria-leibnitz.at/event/saison-openingsausfahrt/
CATEGORIES:Saison Opening
ATTACH;FMTTYPE=image/jpeg:https://scooteria-leibnitz.at/wp-content/uploads/2024/02/WhatsApp-Image-2024-02-11-at-17.50.24.jpeg
END:VEVENT
END:VCALENDAR