BEGIN:VCALENDAR
VERSION:2.0
PRODID:-//Vespa Club - ECPv5.13.0//NONSGML v1.0//EN
CALSCALE:GREGORIAN
METHOD:PUBLISH
X-WR-CALNAME:Vespa Club
X-ORIGINAL-URL:https://scooteria-leibnitz.at
X-WR-CALDESC:Veranstaltungen für Vespa Club
BEGIN:VTIMEZONE
TZID:Europe/Vienna
BEGIN:DAYLIGHT
TZOFFSETFROM:+0100
TZOFFSETTO:+0200
TZNAME:CEST
DTSTART:20170326T010000
END:DAYLIGHT
BEGIN:STANDARD
TZOFFSETFROM:+0200
TZOFFSETTO:+0100
TZNAME:CET
DTSTART:20171029T010000
END:STANDARD
END:VTIMEZONE
BEGIN:VEVENT
DTSTART;TZID=Europe/Vienna:20170506T110000
DTEND;TZID=Europe/Vienna:20170506T180000
DTSTAMP:20260419T221348
CREATED:20161024T195330Z
LAST-MODIFIED:20161024T195414Z
UID:9594-1494068400-1494093600@scooteria-leibnitz.at
SUMMARY:Saison Opening's Ausfahrt 2017 der Scooteria Leibnitz
DESCRIPTION:Am Samstag dem 6.Mai 2017 findet wieder unsere alljährliche Saison-Openings-Ausfahrt statt.\nTreffpunkt: AGIP TS Gralla ….10 Uhr 30\nAbfahrt : pünktlich und vollgetankt um 11 Uhr\nZiel: ….folgt in Kürze…\nNatürlich können sich wie immer auch andere Vespafreunde bei uns anschließen. \nWir freuen uns auf einen tollen Tag\, das Scooteria Leibnitz – Team
URL:https://scooteria-leibnitz.at/event/saison-openings-ausfahrt-2017-der-scooteria-leibnitz/
LOCATION:Eni Tankstelle\, Gewerbepark Nord 11\,\, Gralla\, Steiermark\, 8431\, Österreich
CATEGORIES:Saison Opening
ATTACH;FMTTYPE=image/jpeg:https://scooteria-leibnitz.at/wp-content/uploads/2016/10/saison-opening-17.jpg
END:VEVENT
END:VCALENDAR