BEGIN:VCALENDAR
VERSION:2.0
PRODID:-//Vespa Club - ECPv5.13.0//NONSGML v1.0//EN
CALSCALE:GREGORIAN
METHOD:PUBLISH
X-WR-CALNAME:Vespa Club
X-ORIGINAL-URL:https://scooteria-leibnitz.at
X-WR-CALDESC:Veranstaltungen für Vespa Club
BEGIN:VTIMEZONE
TZID:Europe/Vienna
BEGIN:DAYLIGHT
TZOFFSETFROM:+0100
TZOFFSETTO:+0200
TZNAME:CEST
DTSTART:20180325T010000
END:DAYLIGHT
BEGIN:STANDARD
TZOFFSETFROM:+0200
TZOFFSETTO:+0100
TZNAME:CET
DTSTART:20181028T010000
END:STANDARD
END:VTIMEZONE
BEGIN:VEVENT
DTSTART;TZID=Europe/Vienna:20180714T110000
DTEND;TZID=Europe/Vienna:20180714T180000
DTSTAMP:20260420T170224
CREATED:20180325T161130Z
LAST-MODIFIED:20180326T103750Z
UID:10795-1531566000-1531591200@scooteria-leibnitz.at
SUMMARY:Meet and Speed 2018
DESCRIPTION:Ein Teil der Scooteria Leibnitz fährt zum Meet&Speed 2018 nach Hofstätten bei Deutsch Goritz \nZur Info: Zeitlich findet auch das Brucker Vespatreffen statt\, wo auch einige der Scooteria Leibnitz hinfahren werden.\nHier der Link https://www.facebook.com/events/796896847171037/?ti=cl \nWann: Samstag\, 14. Juli 2018 \nTreffpunkt ab 10:30 Uhr bei der ENI-Tankstelle in Gralla \nAbfahrt: pünktlich und vollgetankt um 11:00 Uhr\n\nTour Guide : Robert & Pepe \nNatürlich können sich wie immer auch andere Vespafreunde bei uns anschließen.
URL:https://scooteria-leibnitz.at/event/meet-and-speed-2018/
CATEGORIES:Vespatreffen
ATTACH;FMTTYPE=image/jpeg:https://scooteria-leibnitz.at/wp-content/uploads/2018/03/meet-and-speed-2018.jpg
END:VEVENT
END:VCALENDAR