BEGIN:VCALENDAR
VERSION:2.0
PRODID:-//Vespa Club - ECPv5.13.0//NONSGML v1.0//EN
CALSCALE:GREGORIAN
METHOD:PUBLISH
X-WR-CALNAME:Vespa Club
X-ORIGINAL-URL:https://scooteria-leibnitz.at
X-WR-CALDESC:Veranstaltungen für Vespa Club
BEGIN:VTIMEZONE
TZID:Europe/Vienna
BEGIN:DAYLIGHT
TZOFFSETFROM:+0100
TZOFFSETTO:+0200
TZNAME:CEST
DTSTART:20230326T010000
END:DAYLIGHT
BEGIN:STANDARD
TZOFFSETFROM:+0200
TZOFFSETTO:+0100
TZNAME:CET
DTSTART:20231029T010000
END:STANDARD
END:VTIMEZONE
BEGIN:VEVENT
DTSTART;TZID=Europe/Vienna:20230211T170000
DTEND;TZID=Europe/Vienna:20230211T203000
DTSTAMP:20260419T151459
CREATED:20230102T213606Z
LAST-MODIFIED:20230102T215330Z
UID:13121-1676134800-1676147400@scooteria-leibnitz.at
SUMMARY:Jahreshauptversammlung des VC Scooteria Leibnitz
DESCRIPTION:Die jährliche Mitgliederversammlung findet am 11. Februar 2023 wieder im Hotel “Alte Post” (Gasthaus Nauschnegg) statt. Treffpunkt ist um 17 Uhr\, Beginn um 18 Uhr. Diese Veranstaltung ist den aktiven und neuen Clubmitgliedern vorbehalten. \n 
URL:https://scooteria-leibnitz.at/event/jahreshauptversammlung-des-vc-scooteria-leibnitz/
LOCATION:Gasthaus Nauschnegg\, Sparkassenplatz 7\, Leibnitz\, Steiermark\, 8430\, Österreich
CATEGORIES:Club Interne
ATTACH;FMTTYPE=image/jpeg:https://scooteria-leibnitz.at/wp-content/uploads/2023/01/WhatsApp-Image-2023-01-01-at-20.31.32.jpeg
ORGANIZER;CN="Scooteria%20Leibnitz":MAILTO:kickstart@scooteria-leibnitz.at
END:VEVENT
END:VCALENDAR