BEGIN:VCALENDAR
VERSION:2.0
PRODID:-//Vespa Club - ECPv5.13.0//NONSGML v1.0//EN
CALSCALE:GREGORIAN
METHOD:PUBLISH
X-WR-CALNAME:Vespa Club
X-ORIGINAL-URL:https://scooteria-leibnitz.at
X-WR-CALDESC:Veranstaltungen für Vespa Club
BEGIN:VTIMEZONE
TZID:Europe/Vienna
BEGIN:DAYLIGHT
TZOFFSETFROM:+0100
TZOFFSETTO:+0200
TZNAME:CEST
DTSTART:20200329T010000
END:DAYLIGHT
BEGIN:STANDARD
TZOFFSETFROM:+0200
TZOFFSETTO:+0100
TZNAME:CET
DTSTART:20201025T010000
END:STANDARD
END:VTIMEZONE
BEGIN:VEVENT
DTSTART;TZID=Europe/Vienna:20200215T170000
DTEND;TZID=Europe/Vienna:20200215T200000
DTSTAMP:20260420T045630
CREATED:20200114T180158Z
LAST-MODIFIED:20200114T180618Z
UID:11832-1581786000-1581796800@scooteria-leibnitz.at
SUMMARY:Jahreshauptversammlung der Scooteria Leibnitz
DESCRIPTION:Die jährliche Mitgliederversammlung findet am 15. Februar 2020 wieder im Hotel “Alte Post” (Gasthaus Nauschnegg) statt. Treffpunkt ist um 17 Uhr\, Beginn um 18 Uhr. Diese Veranstaltung ist den aktiven und neuen Clubmitgliedern vorbehalten. \n 
URL:https://scooteria-leibnitz.at/event/jahreshauptversammlung-der-scooteria-leibnitz-2/
LOCATION:Gasthaus Nauschnegg\, Sparkassenplatz 7\, Leibnitz\, Steiermark\, 8430\, Österreich
CATEGORIES:Club Interne
ATTACH;FMTTYPE=image/jpeg:https://scooteria-leibnitz.at/wp-content/uploads/2020/01/aw01.jpg
ORGANIZER;CN="Scooteria%20Leibnitz":MAILTO:kickstart@scooteria-leibnitz.at
END:VEVENT
END:VCALENDAR