BEGIN:VCALENDAR
VERSION:2.0
PRODID:-//Vespa Club - ECPv5.13.0//NONSGML v1.0//EN
CALSCALE:GREGORIAN
METHOD:PUBLISH
X-WR-CALNAME:Vespa Club
X-ORIGINAL-URL:https://scooteria-leibnitz.at
X-WR-CALDESC:Veranstaltungen für Vespa Club
BEGIN:VTIMEZONE
TZID:Europe/Vienna
BEGIN:DAYLIGHT
TZOFFSETFROM:+0100
TZOFFSETTO:+0200
TZNAME:CEST
DTSTART:20260329T010000
END:DAYLIGHT
BEGIN:STANDARD
TZOFFSETFROM:+0200
TZOFFSETTO:+0100
TZNAME:CET
DTSTART:20261025T010000
END:STANDARD
END:VTIMEZONE
BEGIN:VEVENT
DTSTART;TZID=Europe/Vienna:20260207T170000
DTEND;TZID=Europe/Vienna:20260207T210000
DTSTAMP:20260419T183901
CREATED:20251024T122827Z
LAST-MODIFIED:20251024T122827Z
UID:14108-1770483600-1770498000@scooteria-leibnitz.at
SUMMARY:Jahreshauptversammlung 2026
DESCRIPTION:
URL:https://scooteria-leibnitz.at/event/jahreshauptversammlung-2026/
END:VEVENT
END:VCALENDAR