BEGIN:VCALENDAR
VERSION:2.0
PRODID:-//Vespa Club - ECPv5.13.0//NONSGML v1.0//EN
CALSCALE:GREGORIAN
METHOD:PUBLISH
X-WR-CALNAME:Vespa Club
X-ORIGINAL-URL:https://scooteria-leibnitz.at
X-WR-CALDESC:Veranstaltungen für Vespa Club
BEGIN:VTIMEZONE
TZID:Europe/Vienna
BEGIN:DAYLIGHT
TZOFFSETFROM:+0100
TZOFFSETTO:+0200
TZNAME:CEST
DTSTART:20250330T010000
END:DAYLIGHT
BEGIN:STANDARD
TZOFFSETFROM:+0200
TZOFFSETTO:+0100
TZNAME:CET
DTSTART:20251026T010000
END:STANDARD
END:VTIMEZONE
BEGIN:VEVENT
DTSTART;TZID=Europe/Vienna:20250215T170000
DTEND;TZID=Europe/Vienna:20250215T210000
DTSTAMP:20260420T163052
CREATED:20250103T085036Z
LAST-MODIFIED:20250103T085036Z
UID:13630-1739638800-1739653200@scooteria-leibnitz.at
SUMMARY:Jahreshauptversammlung 2025
DESCRIPTION:
URL:https://scooteria-leibnitz.at/event/jahreshauptversammlung-2025/
LOCATION:Gasthaus Nauschnegg\, Sparkassenplatz 7\, Leibnitz\, Steiermark\, 8430\, Österreich
ATTACH;FMTTYPE=image/jpeg:https://scooteria-leibnitz.at/wp-content/uploads/2023/01/WhatsApp-Image-2023-01-01-at-20.31.32.jpeg
END:VEVENT
END:VCALENDAR