BEGIN:VCALENDAR
VERSION:2.0
PRODID:-//Vespa Club - ECPv5.13.0//NONSGML v1.0//EN
CALSCALE:GREGORIAN
METHOD:PUBLISH
X-WR-CALNAME:Vespa Club
X-ORIGINAL-URL:https://scooteria-leibnitz.at
X-WR-CALDESC:Veranstaltungen für Vespa Club
BEGIN:VTIMEZONE
TZID:Europe/Vienna
BEGIN:DAYLIGHT
TZOFFSETFROM:+0100
TZOFFSETTO:+0200
TZNAME:CEST
DTSTART:20220327T010000
END:DAYLIGHT
BEGIN:STANDARD
TZOFFSETFROM:+0200
TZOFFSETTO:+0100
TZNAME:CET
DTSTART:20221030T010000
END:STANDARD
END:VTIMEZONE
BEGIN:VEVENT
DTSTART;TZID=Europe/Vienna:20220212T170000
DTEND;TZID=Europe/Vienna:20220212T190000
DTSTAMP:20260419T202415
CREATED:20211107T112659Z
LAST-MODIFIED:20220110T115109Z
UID:12748-1644685200-1644692400@scooteria-leibnitz.at
SUMMARY:Jahreshauptversammlung 2022
DESCRIPTION:LIEBE VESPACLUBMITGLIEDER!\nUnsere jährliche Mitgliederversammlung\, besser bekannt als Jahreshauptversammlung findet am Samstag dem 12.02.2022 ab 17 Uhr als Onlinemeeting statt\n\nEinladung folgt…\n\nSave the Date\n\n\nL.g. Der Vorstand \nWeniger anzeigen
URL:https://scooteria-leibnitz.at/event/jahreshauptversammlung-2022/
CATEGORIES:Club Interne
ATTACH;FMTTYPE=image/jpeg:https://scooteria-leibnitz.at/wp-content/uploads/2021/11/245140414_2916149151983454_4554380071128708105_n.jpg
END:VEVENT
END:VCALENDAR