BEGIN:VCALENDAR
VERSION:2.0
PRODID:-//Vespa Club - ECPv5.13.0//NONSGML v1.0//EN
CALSCALE:GREGORIAN
METHOD:PUBLISH
X-WR-CALNAME:Vespa Club
X-ORIGINAL-URL:https://scooteria-leibnitz.at
X-WR-CALDESC:Veranstaltungen für Vespa Club
BEGIN:VTIMEZONE
TZID:Europe/Vienna
BEGIN:DAYLIGHT
TZOFFSETFROM:+0100
TZOFFSETTO:+0200
TZNAME:CEST
DTSTART:20210328T010000
END:DAYLIGHT
BEGIN:STANDARD
TZOFFSETFROM:+0200
TZOFFSETTO:+0100
TZNAME:CET
DTSTART:20211031T010000
END:STANDARD
END:VTIMEZONE
BEGIN:VEVENT
DTSTART;TZID=Europe/Vienna:20210220T190000
DTEND;TZID=Europe/Vienna:20210220T200000
DTSTAMP:20260419T222108
CREATED:20210219T112432Z
LAST-MODIFIED:20210220T153005Z
UID:12657-1613847600-1613851200@scooteria-leibnitz.at
SUMMARY:Jahreshauptversammlung 2021\, virtuell als Zoom Meeting
DESCRIPTION:Auf Grund der Einschränkungen durch die Corona Virus Restriktionen findet unsere Jahreshauptversammlung heuer leider nur virtuell statt. \nWir erwarten mit Spannung ob und wie gut das Ganze funktionieren wird. \nAuf alle Fälle könnt ihr die Präsentation im interne Mitgliederbereich nachlesen. \n  \n 
URL:https://scooteria-leibnitz.at/event/jahreshauptversammlung-2021-virtuell-als-zoom-meeting/
CATEGORIES:Club Interne
ATTACH;FMTTYPE=image/jpeg:https://scooteria-leibnitz.at/wp-content/uploads/2021/02/WhatsApp-Image-2021-02-20-at-16.26.17.jpeg
ORGANIZER;CN="Scooteria%20Leibnitz":MAILTO:kickstart@scooteria-leibnitz.at
END:VEVENT
END:VCALENDAR