BEGIN:VCALENDAR
VERSION:2.0
PRODID:-//Vespa Club - ECPv5.13.0//NONSGML v1.0//EN
CALSCALE:GREGORIAN
METHOD:PUBLISH
X-WR-CALNAME:Vespa Club
X-ORIGINAL-URL:https://scooteria-leibnitz.at
X-WR-CALDESC:Veranstaltungen für Vespa Club
BEGIN:VTIMEZONE
TZID:Europe/Vienna
BEGIN:DAYLIGHT
TZOFFSETFROM:+0100
TZOFFSETTO:+0200
TZNAME:CEST
DTSTART:20200329T010000
END:DAYLIGHT
BEGIN:STANDARD
TZOFFSETFROM:+0200
TZOFFSETTO:+0100
TZNAME:CET
DTSTART:20201025T010000
END:STANDARD
END:VTIMEZONE
BEGIN:VEVENT
DTSTART;TZID=Europe/Vienna:20201024T150000
DTEND;TZID=Europe/Vienna:20201024T233000
DTSTAMP:20260420T000742
CREATED:20201010T093726Z
LAST-MODIFIED:20201017T075349Z
UID:12450-1603551600-1603582200@scooteria-leibnitz.at
SUMMARY:Jahresausklang der Scooteria Leibnitz
DESCRIPTION:Liebe Clubmitglieder!\n\n\nKleines Update bezüglich unserer Club Weihnachtsfeier…..\n\n\nAuf Grund des aktuellen Covid Verordnung können wir die geplante Feier NICHT im Route 69 machen .\n\n\nABER wir haben eine urlässige PRIVATE Location im wunderschönen Sausal gefunden wo wir unseren Jahresausklang ( vorgezogene Weihnachtsfeier) durchführen werden .\n\n\nWunderschönes altes Gewölbe mit offenen Feuer mitten im Weingarten bei Sausal.\nA Traum Location und a wahnsinnig schöne Aussicht .\n\n\nUnd so wird es ablaufen.\n\n\nWann : Samstag 24.Oktober 2020\n\n\nWo: 8443 Sausal 136 ( Theresienkapellenweg)\nAm besten über Maierhof zufahren.\n\n\nUhrzeit: Ab 15 Uhr Kastanien und Schilchersturm auf der Terrasse …\n\n\nUm 19 Uhr CATERING Service……..STEIRERBUFFET …lauter feine Sachen vom Heurigen Gramm\nwarm und kalt …..\n\n\nMusik aus der Dose …..Dj Robert\n\n\nFreunde da wir einen großen Aufwand betreiben \, und das ganze viel Geld kostet ( Catering) \, bitten wir alle die zu 100 % kommen\, unter Kommentare Bescheid zu\ngeben.\n\n\nBis spätestens Montag dem 19 .Oktober 2020 brauchen wir die genaue Teilnehmerzahl .\n\n\nAus Parkplatztechnischen Gründen bitten wir euch sich in Fahrgemeinschaften zusammen zu schließen\, oder mit dem Taxi zu kommen.\n\n\nWIR BITTEN UM VERSTÄNDNIS….\n\n\nDie Feier bezahlt der  Club.\n\n\nWir freuen uns auf einen gemütlichen Jahresausklang mit euch gemeinsam.\n\n\n\nL.g. Euer Vorstand
URL:https://scooteria-leibnitz.at/event/jahresauskland-der-scooteria-leibnitz/
LOCATION:Theresienkapelle\, Sausal 136\, 8443\, Österreich
CATEGORIES:Club Interne
ATTACH;FMTTYPE=image/jpeg:https://scooteria-leibnitz.at/wp-content/uploads/2020/10/120842286_2636186949979677_5423332980744997429_o-1.jpg
ORGANIZER;CN="Scooteria%20Leibnitz":MAILTO:kickstart@scooteria-leibnitz.at
END:VEVENT
END:VCALENDAR