BEGIN:VCALENDAR
VERSION:2.0
PRODID:-//Vespa Club - ECPv5.13.0//NONSGML v1.0//EN
CALSCALE:GREGORIAN
METHOD:PUBLISH
X-WR-CALNAME:Vespa Club
X-ORIGINAL-URL:https://scooteria-leibnitz.at
X-WR-CALDESC:Veranstaltungen für Vespa Club
BEGIN:VTIMEZONE
TZID:Europe/Vienna
BEGIN:DAYLIGHT
TZOFFSETFROM:+0100
TZOFFSETTO:+0200
TZNAME:CEST
DTSTART:20170326T010000
END:DAYLIGHT
BEGIN:STANDARD
TZOFFSETFROM:+0200
TZOFFSETTO:+0100
TZNAME:CET
DTSTART:20171029T010000
END:STANDARD
END:VTIMEZONE
BEGIN:VEVENT
DTSTART;TZID=Europe/Vienna:20170520T093000
DTEND;TZID=Europe/Vienna:20170520T170000
DTSTAMP:20260419T221245
CREATED:20170212T175039Z
LAST-MODIFIED:20170212T191448Z
UID:10054-1495272600-1495299600@scooteria-leibnitz.at
SUMMARY:Gruppenfoto der Scooteria Leibnitz!
DESCRIPTION:Neun Jahre ist es her als wir unser letztes Gruppenfoto der Scooteria Leibnitz organisierten! \n  \nAm 20.Mai um 9:30 Uhr Vormittag ist es wieder soweit!\n  \nDen Ort\, wo es stattfinden wird\, geben wir bekannt\, sobald wir eine Zusage haben! \nWir bitten Euch diesen Tag ROT im Kalender anzustreichen damit ihr nicht darauf vergessen könnt. \nBitte kommt in Clubmode! Jacke\, Sweater\, T Shirt …ganz egal. Hauptsache Scooteria Leibnitz Mode! \nDanach fahren wir gemeinsam zu unseren Freunden zum Vespa-Cult Saison Opening ! \n  \nWir rechnen mit jedem einzelnen von Euch! Vielen DANK!! \n 
URL:https://scooteria-leibnitz.at/event/gruppenfoto-der-scooteria-leibnitz/
CATEGORIES:Vespatreffen
ATTACH;FMTTYPE=image/jpeg:https://scooteria-leibnitz.at/wp-content/uploads/2017/02/530642526965547.jpg
END:VEVENT
END:VCALENDAR