BEGIN:VCALENDAR
VERSION:2.0
PRODID:-//Vespa Club - ECPv5.13.0//NONSGML v1.0//EN
CALSCALE:GREGORIAN
METHOD:PUBLISH
X-WR-CALNAME:Vespa Club
X-ORIGINAL-URL:https://scooteria-leibnitz.at
X-WR-CALDESC:Veranstaltungen für Vespa Club
BEGIN:VTIMEZONE
TZID:Europe/Vienna
BEGIN:DAYLIGHT
TZOFFSETFROM:+0100
TZOFFSETTO:+0200
TZNAME:CEST
DTSTART:20250330T010000
END:DAYLIGHT
BEGIN:STANDARD
TZOFFSETFROM:+0200
TZOFFSETTO:+0100
TZNAME:CET
DTSTART:20251026T010000
END:STANDARD
END:VTIMEZONE
BEGIN:VEVENT
DTSTART;TZID=Europe/Vienna:20251220T130000
DTEND;TZID=Europe/Vienna:20251220T200000
DTSTAMP:20260419T181704
CREATED:20250923T104120Z
LAST-MODIFIED:20250923T104120Z
UID:14009-1766235600-1766260800@scooteria-leibnitz.at
SUMMARY:Glühweinfeier 2025
DESCRIPTION:
URL:https://scooteria-leibnitz.at/event/gluehweinfeier-2025/
ATTACH;FMTTYPE=image/jpeg:https://scooteria-leibnitz.at/wp-content/uploads/2025/09/WhatsApp-Image-2025-09-19-at-20.42.17.jpeg
END:VEVENT
END:VCALENDAR