BEGIN:VCALENDAR
VERSION:2.0
PRODID:-//Vespa Club - ECPv5.13.0//NONSGML v1.0//EN
CALSCALE:GREGORIAN
METHOD:PUBLISH
X-WR-CALNAME:Vespa Club
X-ORIGINAL-URL:https://scooteria-leibnitz.at
X-WR-CALDESC:Veranstaltungen für Vespa Club
BEGIN:VTIMEZONE
TZID:Europe/Vienna
BEGIN:DAYLIGHT
TZOFFSETFROM:+0100
TZOFFSETTO:+0200
TZNAME:CEST
DTSTART:20250330T010000
END:DAYLIGHT
BEGIN:STANDARD
TZOFFSETFROM:+0200
TZOFFSETTO:+0100
TZNAME:CET
DTSTART:20251026T010000
END:STANDARD
END:VTIMEZONE
BEGIN:VEVENT
DTSTART;TZID=Europe/Vienna:20250621T080000
DTEND;TZID=Europe/Vienna:20250621T170000
DTSTAMP:20260420T162700
CREATED:20250317T213032Z
LAST-MODIFIED:20250317T220008Z
UID:13796-1750492800-1750525200@scooteria-leibnitz.at
SUMMARY:Ausfahrt zur "Iron Road for children" nach Leoben
DESCRIPTION:Am 21. Juni sind wir in Leoben bei unseren Freunden von IRFC zu Gast! \nGemeinsam fahren wir zu diesem Megaspektakel in die Obersteiermark mit unserem Tourguide Charly. Der Treffpunkt und die Abfahrtszeit wird in den nächsten Tagen bekannt gegeben. \n 
URL:https://scooteria-leibnitz.at/event/ausfahrt-zur-iron-road-for-children-nach-leoben/
CATEGORIES:Vespatreffen
ATTACH;FMTTYPE=image/jpeg:https://scooteria-leibnitz.at/wp-content/uploads/2025/03/WhatsApp-Image-2025-03-17-at-22.33.31.jpeg
END:VEVENT
END:VCALENDAR