BEGIN:VCALENDAR
VERSION:2.0
PRODID:-//Vespa Club - ECPv5.13.0//NONSGML v1.0//EN
CALSCALE:GREGORIAN
METHOD:PUBLISH
X-WR-CALNAME:Vespa Club
X-ORIGINAL-URL:https://scooteria-leibnitz.at
X-WR-CALDESC:Veranstaltungen für Vespa Club
BEGIN:VTIMEZONE
TZID:Europe/Vienna
BEGIN:DAYLIGHT
TZOFFSETFROM:+0100
TZOFFSETTO:+0200
TZNAME:CEST
DTSTART:20160327T010000
END:DAYLIGHT
BEGIN:STANDARD
TZOFFSETFROM:+0200
TZOFFSETTO:+0100
TZNAME:CET
DTSTART:20161030T010000
END:STANDARD
END:VTIMEZONE
BEGIN:VEVENT
DTSTART;VALUE=DATE:20160702
DTEND;VALUE=DATE:20160704
DTSTAMP:20260420T193307
CREATED:20160613T172754Z
LAST-MODIFIED:20160614T072224Z
UID:9008-1467442800-1467529199@scooteria-leibnitz.at
SUMMARY:Ausfahrt zum "2. Vespa trifft Schilcher" Treffen
DESCRIPTION:Am 2 Juli 2016 findet am Deutschlandsberger Hauptplatz das “2. Vespa trifft Schilcher Treffen” statt.\nAbfahrt : pünktlich und vollgetankt um 11 Uhr bei Franz Stelzls Scootershop \nSelbstverständlich werden auch Vespistis von der Scooteria Leibnitz bei unseren Freunden in Deutschlandsberg dabei sein obwohl unser TEAM bereits im Route 69 (Steiravespa Areal) mit dem Aufbau der Steira Vespa beschäftigt ist\, welches eine Woche später stattfindet. \n 
URL:https://scooteria-leibnitz.at/event/ausfahrt-zum-2-vespa-trifft-schilcher-treffen/
LOCATION:Stelzl Motorrad- & Scooter\, Hauptstraße 44\, Leitring\, 8430\, Österreich
CATEGORIES:Vespatreffen
ATTACH;FMTTYPE=image/jpeg:https://scooteria-leibnitz.at/wp-content/uploads/2016/06/13442345_584104531771153_4699958521003488209_n.jpg
END:VEVENT
END:VCALENDAR