BEGIN:VCALENDAR
VERSION:2.0
PRODID:-//Vespa Club - ECPv5.13.0//NONSGML v1.0//EN
CALSCALE:GREGORIAN
METHOD:PUBLISH
X-WR-CALNAME:Vespa Club
X-ORIGINAL-URL:https://scooteria-leibnitz.at
X-WR-CALDESC:Veranstaltungen für Vespa Club
BEGIN:VTIMEZONE
TZID:Europe/Vienna
BEGIN:DAYLIGHT
TZOFFSETFROM:+0100
TZOFFSETTO:+0200
TZNAME:CEST
DTSTART:20160327T010000
END:DAYLIGHT
BEGIN:STANDARD
TZOFFSETFROM:+0200
TZOFFSETTO:+0100
TZNAME:CET
DTSTART:20161030T010000
END:STANDARD
END:VTIMEZONE
BEGIN:VEVENT
DTSTART;VALUE=DATE:20160618
DTEND;VALUE=DATE:20160620
DTSTAMP:20260420T141537
CREATED:20160313T154229Z
LAST-MODIFIED:20160313T204917Z
UID:8151-1466233200-1466319599@scooteria-leibnitz.at
SUMMARY:18. Juni 2016 - 5. Vespisti against Cancer
DESCRIPTION:Ausfahrt der Scooteria Leibnitz zum 5. Vespisti against Cancer nach Heiligenkreuz am Waasen. \nhttps://www.facebook.com/events/438416246368384/ \nTreffpunkt: Samstag 18.Juni 2016 bei Stelzls Scootershop.\nAbfahrt: pünktlich und vollgetankt um 11 Uhr.\nNatürlich können sich auch andere Vespistis bei uns anschließen.
URL:https://scooteria-leibnitz.at/event/ausfahrt-der-scooteria-leibnitz-zum-5-vespisti-against-cancer/
LOCATION:Stelzl Motorrad- & Scooter\, Hauptstraße 44\, Leitring\, 8430\, Österreich
ATTACH;FMTTYPE=image/jpeg:https://scooteria-leibnitz.at/wp-content/uploads/2016/03/Ausfahrt-VespistiAC_2016.jpg
ORGANIZER;CN="Scooteria%20Leibnitz":MAILTO:kickstart@scooteria-leibnitz.at
END:VEVENT
END:VCALENDAR