BEGIN:VCALENDAR
VERSION:2.0
PRODID:-//Vespa Club - ECPv5.13.0//NONSGML v1.0//EN
CALSCALE:GREGORIAN
METHOD:PUBLISH
X-WR-CALNAME:Vespa Club
X-ORIGINAL-URL:https://scooteria-leibnitz.at
X-WR-CALDESC:Veranstaltungen für Vespa Club
BEGIN:VTIMEZONE
TZID:Europe/Vienna
BEGIN:DAYLIGHT
TZOFFSETFROM:+0100
TZOFFSETTO:+0200
TZNAME:CEST
DTSTART:20250330T010000
END:DAYLIGHT
BEGIN:STANDARD
TZOFFSETFROM:+0200
TZOFFSETTO:+0100
TZNAME:CET
DTSTART:20251026T010000
END:STANDARD
END:VTIMEZONE
BEGIN:VEVENT
DTSTART;TZID=Europe/Vienna:20250823T100000
DTEND;TZID=Europe/Vienna:20250823T170000
DTSTAMP:20260419T170722
CREATED:20250802T200125Z
LAST-MODIFIED:20250802T200342Z
UID:13991-1755943200-1755968400@scooteria-leibnitz.at
SUMMARY:Ausfahrt der Scooteria Leibnitz zum 10.🛵💨Treffen der Vespa Runde Feldbach
DESCRIPTION:Ausfahrt der Scooteria Leibnitz zum 10.Vespatreffen der Vespa Runde Feldbach. \n‼️Achtung NEUES AREAL ‼️ \nDie Veranstaltung findet am Paldauer Saazkogel statt.\nHinweisschilder werden vor Ort sein. \nWann: Samstag 23.August 2025 \nTreffpunkt: 10 Uhr Eni Ts Gralla \nAbfahrt: pünktlich und vollgetankt um\n10 Uhr 30 \nWie immer können sich ALLE VESPAFREUNDE bei uns anschließen. \nL.G.Vespaclub Scooteria Leibnitz
URL:https://scooteria-leibnitz.at/event/ausfahrt-der-scooteria-leibnitz-zum-10-%f0%9f%9b%b5%f0%9f%92%a8treffen-der-vespa-runde-feldbach/
LOCATION:Eni Tankstelle\, Gewerbepark Nord 11\,\, Gralla\, Steiermark\, 8431\, Österreich
ATTACH;FMTTYPE=image/jpeg:https://scooteria-leibnitz.at/wp-content/uploads/2025/08/520004949_1213088137530139_3275953066811894623_n.jpg
END:VEVENT
END:VCALENDAR