BEGIN:VCALENDAR
VERSION:2.0
PRODID:-//Vespa Club - ECPv5.13.0//NONSGML v1.0//EN
CALSCALE:GREGORIAN
METHOD:PUBLISH
X-WR-CALNAME:Vespa Club
X-ORIGINAL-URL:https://scooteria-leibnitz.at
X-WR-CALDESC:Veranstaltungen für Vespa Club
BEGIN:VTIMEZONE
TZID:Europe/Vienna
BEGIN:DAYLIGHT
TZOFFSETFROM:+0100
TZOFFSETTO:+0200
TZNAME:CEST
DTSTART:20170326T010000
END:DAYLIGHT
BEGIN:STANDARD
TZOFFSETFROM:+0200
TZOFFSETTO:+0100
TZNAME:CET
DTSTART:20171029T010000
END:STANDARD
END:VTIMEZONE
BEGIN:VEVENT
DTSTART;TZID=Europe/Vienna:20170128T120000
DTEND;TZID=Europe/Vienna:20170128T200000
DTSTAMP:20260419T170303
CREATED:20170104T171333Z
LAST-MODIFIED:20170104T172505Z
UID:9613-1485604800-1485633600@scooteria-leibnitz.at
SUMMARY:Erstes "Gaudy SPANGERLSCHIESSEN"
DESCRIPTION:“Gaudy SPANGERLSCHIESSEN”\n\n\nWann:\nSamstag 28.01.2017\nTreffpunkt ab 12 Uhr zum Probeschießen\nUm 13 Uhr beginnt dann pünktlich unser “Gaudy Spangerlschießen”.\n\n\nWo: \nESV Halle Wagna/bei der Feuerwehr/ Gemeindebauhof\nBauhofstrasse\n8435 Wagna\n\nSpielregel:\n10 Schuss pro Person auf die nummerierten Spangerln.\nAlle Treffer werden dann zusammen gerechnet und wer am Schluß die meisten Zähler hat ist der Gewinner.\nEs gibt auch die Möglichkeit nach der Wertung “private Runden” zu spielen.\nFür all jene die noch nie Stockgeschossen haben gibt es die Möglichkeit sich ab 12 Uhr unter der Anleitung von unserem TOM einzuschießen.\n\nNatürlich gibt es auch eine Siegerehrung!\n\nZur Informationen: BEI UNS GIBT ES KEINE PROFIS.\nEs geht uns rein um die Gaudy!Für Musik\, Getränke und Würstl ist natürlich reichlich gesorgt.Unkostenbeitrag für Schützen: Euro 5.- pro Person für den ganzen Tag!\n\n\nWer gar nicht Stockschießen mag\, kann uns gerne auch “nur” besuchen kommen um uns anzufeuern! \nALLE Freunde der Scooteria Leibnitz sind natürlich herzlich eingeladen bei der Hetz dabei zu sein. \nDer VC Scooteria Leibnitz freut sich jetzt schon auf einen lässigen und spaßigen Tag mit EUCH gemeinsam! \n\n 
URL:https://scooteria-leibnitz.at/event/9613/
LOCATION:ESV Halle Wagna\, Bauhofstraße 22\, Wagna\, Steiermark\, 8430\, Österreich
CATEGORIES:side Events
ATTACH;FMTTYPE=image/jpeg:https://scooteria-leibnitz.at/wp-content/uploads/2017/01/spangerlschiessen.jpg
ORGANIZER;CN="Scooteria%20Leibnitz":MAILTO:kickstart@scooteria-leibnitz.at
END:VEVENT
END:VCALENDAR