BEGIN:VCALENDAR
VERSION:2.0
PRODID:-//Vespa Club - ECPv5.13.0//NONSGML v1.0//EN
CALSCALE:GREGORIAN
METHOD:PUBLISH
X-WR-CALNAME:Vespa Club
X-ORIGINAL-URL:https://scooteria-leibnitz.at
X-WR-CALDESC:Veranstaltungen für Vespa Club
BEGIN:VTIMEZONE
TZID:Europe/Vienna
BEGIN:DAYLIGHT
TZOFFSETFROM:+0100
TZOFFSETTO:+0200
TZNAME:CEST
DTSTART:20160327T010000
END:DAYLIGHT
BEGIN:STANDARD
TZOFFSETFROM:+0200
TZOFFSETTO:+0100
TZNAME:CET
DTSTART:20161030T010000
END:STANDARD
END:VTIMEZONE
BEGIN:VEVENT
DTSTART;TZID=Europe/Vienna:20160507T103000
DTEND;TZID=Europe/Vienna:20160507T200000
DTSTAMP:20260420T141738
CREATED:20160303T102825Z
LAST-MODIFIED:20160312T173930Z
UID:7665-1462617000-1462651200@scooteria-leibnitz.at
SUMMARY:7. Mai 2016 – Saison Opening Ausfahrt
DESCRIPTION:Am Samstag dem 7.Mai 2016 findet wieder unsere alljährliche Saison-Openings-Ausfahrt statt.\nTreffpunkt: ENI Tankstelle in Gralla ….10 Uhr 30\nAbfahrt : pünktlich und vollgetankt um 11 Uhr\nZiel: Unsere Ausfahrt geht heuer wieder nach Dietersdorf bei Fürstenfeld zum ANROLLERN der Vespafreunde Süd Ost.\nNatürlich können sich wie immer auch andere Vespafreunde bei uns anschließen.
URL:https://scooteria-leibnitz.at/event/7-mai-2016-saison-opening-ausfahrt/
LOCATION:Eni Tankstelle\, Gewerbepark Nord 11\,\, Gralla\, Steiermark\, 8431\, Österreich
CATEGORIES:Saison Opening
ATTACH;FMTTYPE=image/jpeg:https://scooteria-leibnitz.at/wp-content/uploads/2016/03/saison-opening.jpg
ORGANIZER;CN="Scooteria%20Leibnitz":MAILTO:kickstart@scooteria-leibnitz.at
END:VEVENT
END:VCALENDAR