BEGIN:VCALENDAR
VERSION:2.0
PRODID:-//Vespa Club - ECPv5.13.0//NONSGML v1.0//EN
CALSCALE:GREGORIAN
METHOD:PUBLISH
X-WR-CALNAME:Vespa Club
X-ORIGINAL-URL:https://scooteria-leibnitz.at
X-WR-CALDESC:Veranstaltungen für Vespa Club
BEGIN:VTIMEZONE
TZID:Europe/Vienna
BEGIN:DAYLIGHT
TZOFFSETFROM:+0100
TZOFFSETTO:+0200
TZNAME:CEST
DTSTART:20230326T010000
END:DAYLIGHT
BEGIN:STANDARD
TZOFFSETFROM:+0200
TZOFFSETTO:+0100
TZNAME:CET
DTSTART:20231029T010000
END:STANDARD
END:VTIMEZONE
BEGIN:VEVENT
DTSTART;TZID=Europe/Vienna:20230428T170000
DTEND;TZID=Europe/Vienna:20230428T210000
DTSTAMP:20260419T182716
CREATED:20230224T210252Z
LAST-MODIFIED:20230224T210301Z
UID:13262-1682701200-1682715600@scooteria-leibnitz.at
SUMMARY:2. Stammtisch 2023- Ausgabe der bestellten Clubartikel
DESCRIPTION:
URL:https://scooteria-leibnitz.at/event/2-stammtisch-2023-ausgabe-der-clubartikel/
LOCATION:Heuriger Gramm\, Rupertistraße 17\, Gralla\, Steiermark\, 8431\, Österreich
ORGANIZER;CN="Scooteria%20Leibnitz":MAILTO:kickstart@scooteria-leibnitz.at
END:VEVENT
END:VCALENDAR