BEGIN:VCALENDAR
VERSION:2.0
PRODID:-//Vespa Club - ECPv5.13.0//NONSGML v1.0//EN
CALSCALE:GREGORIAN
METHOD:PUBLISH
X-WR-CALNAME:Vespa Club
X-ORIGINAL-URL:https://scooteria-leibnitz.at
X-WR-CALDESC:Veranstaltungen für Vespa Club
BEGIN:VTIMEZONE
TZID:Europe/Vienna
BEGIN:DAYLIGHT
TZOFFSETFROM:+0100
TZOFFSETTO:+0200
TZNAME:CEST
DTSTART:20230326T010000
END:DAYLIGHT
BEGIN:STANDARD
TZOFFSETFROM:+0200
TZOFFSETTO:+0100
TZNAME:CET
DTSTART:20231029T010000
END:STANDARD
END:VTIMEZONE
BEGIN:VEVENT
DTSTART;TZID=Europe/Vienna:20230324T170000
DTEND;TZID=Europe/Vienna:20230324T210000
DTSTAMP:20260419T164315
CREATED:20230224T205752Z
LAST-MODIFIED:20230224T205911Z
UID:13258-1679677200-1679691600@scooteria-leibnitz.at
SUMMARY:1. Stammtisch 2023
DESCRIPTION:Der Stammtisch findet bei jeder Witterung statt.
URL:https://scooteria-leibnitz.at/event/1-stammtisch-2023/
LOCATION:Heuriger Gramm\, Rupertistraße 17\, Gralla\, Steiermark\, 8431\, Österreich
ORGANIZER;CN="Scooteria%20Leibnitz":MAILTO:kickstart@scooteria-leibnitz.at
END:VEVENT
END:VCALENDAR